BEGIN:VCALENDAR
VERSION:2.0
PRODID:-//eventon.com NONSGML v1.0//EN
CALSCALE:GREGORIAN
METHOD:PUBLISH
BEGIN:VEVENT
UID:69e9fb9b36cb5
DTSTAMP:20260423T105939Z
DTSTART:20251029T200000Z
DTEND:20251029T210000Z
LOCATION:Downtown Cinemas (Third Street) 814 S 3rd St
SUMMARY:Panel: How To DIY Your Special
DESCRIPTION:PANELISTS:Robert E Lee (Co-Founder\,  Laugh After Dark)\,  Kels
 ey Borlan (Co-Founder\,  Laugh After Dark)\,  Michael Malone (award-winning
  comedy director)\,  Nicole Blaine (comedian &amp; producer)\,  Stacy Corde
 ll (award-winning director/producer\,  comic). In today’s comedy world\, 
  waiting for a greenlight isn’t the only way forward. From stand-up speci
 als to short films\,  self-producing has become[..]\nhttps://laughafterdark
 comedyfest.com/events/workshop/
URL:https://laughafterdarkcomedyfest.com/events/workshop/
END:VEVENT
END:VCALENDAR